BEGIN:VCALENDAR
VERSION:2.0
PRODID:-//Austin Transit Partnership - ECPv6.15.16//NONSGML v1.0//EN
CALSCALE:GREGORIAN
METHOD:PUBLISH
X-ORIGINAL-URL:https://www.atptx.org
X-WR-CALDESC:Events for Austin Transit Partnership
REFRESH-INTERVAL;VALUE=DURATION:PT1H
X-Robots-Tag:noindex
X-PUBLISHED-TTL:PT1H
BEGIN:VTIMEZONE
TZID:America/Chicago
BEGIN:DAYLIGHT
TZOFFSETFROM:-0600
TZOFFSETTO:-0500
TZNAME:CDT
DTSTART:20220313T080000
END:DAYLIGHT
BEGIN:STANDARD
TZOFFSETFROM:-0500
TZOFFSETTO:-0600
TZNAME:CST
DTSTART:20221106T070000
END:STANDARD
BEGIN:DAYLIGHT
TZOFFSETFROM:-0600
TZOFFSETTO:-0500
TZNAME:CDT
DTSTART:20230312T080000
END:DAYLIGHT
BEGIN:STANDARD
TZOFFSETFROM:-0500
TZOFFSETTO:-0600
TZNAME:CST
DTSTART:20231105T070000
END:STANDARD
BEGIN:DAYLIGHT
TZOFFSETFROM:-0600
TZOFFSETTO:-0500
TZNAME:CDT
DTSTART:20240310T080000
END:DAYLIGHT
BEGIN:STANDARD
TZOFFSETFROM:-0500
TZOFFSETTO:-0600
TZNAME:CST
DTSTART:20241103T070000
END:STANDARD
BEGIN:DAYLIGHT
TZOFFSETFROM:-0600
TZOFFSETTO:-0500
TZNAME:CDT
DTSTART:20250309T080000
END:DAYLIGHT
BEGIN:STANDARD
TZOFFSETFROM:-0500
TZOFFSETTO:-0600
TZNAME:CST
DTSTART:20251102T070000
END:STANDARD
BEGIN:DAYLIGHT
TZOFFSETFROM:-0600
TZOFFSETTO:-0500
TZNAME:CDT
DTSTART:20260308T080000
END:DAYLIGHT
BEGIN:STANDARD
TZOFFSETFROM:-0500
TZOFFSETTO:-0600
TZNAME:CST
DTSTART:20261101T070000
END:STANDARD
BEGIN:DAYLIGHT
TZOFFSETFROM:-0600
TZOFFSETTO:-0500
TZNAME:CDT
DTSTART:20270314T080000
END:DAYLIGHT
BEGIN:STANDARD
TZOFFSETFROM:-0500
TZOFFSETTO:-0600
TZNAME:CST
DTSTART:20271107T070000
END:STANDARD
END:VTIMEZONE
BEGIN:VTIMEZONE
TZID:America/New_York
BEGIN:DAYLIGHT
TZOFFSETFROM:-0500
TZOFFSETTO:-0400
TZNAME:EDT
DTSTART:20220313T070000
END:DAYLIGHT
BEGIN:STANDARD
TZOFFSETFROM:-0400
TZOFFSETTO:-0500
TZNAME:EST
DTSTART:20221106T060000
END:STANDARD
BEGIN:DAYLIGHT
TZOFFSETFROM:-0500
TZOFFSETTO:-0400
TZNAME:EDT
DTSTART:20230312T070000
END:DAYLIGHT
BEGIN:STANDARD
TZOFFSETFROM:-0400
TZOFFSETTO:-0500
TZNAME:EST
DTSTART:20231105T060000
END:STANDARD
BEGIN:DAYLIGHT
TZOFFSETFROM:-0500
TZOFFSETTO:-0400
TZNAME:EDT
DTSTART:20240310T070000
END:DAYLIGHT
BEGIN:STANDARD
TZOFFSETFROM:-0400
TZOFFSETTO:-0500
TZNAME:EST
DTSTART:20241103T060000
END:STANDARD
END:VTIMEZONE
BEGIN:VEVENT
DTSTART;TZID=America/Chicago:20260409T170000
DTEND;TZID=America/Chicago:20260409T190000
DTSTAMP:20260423T063529
CREATED:20250519T173436Z
LAST-MODIFIED:20250603T182735Z
UID:10000093-1775754000-1775761200@www.atptx.org
SUMMARY:Community Advisory Committee Meeting
DESCRIPTION:ATP Office\nRegister here to join online.
URL:https://www.atptx.org/event/community-advisory-committee-meeting-6-2025-12/2026-04-09/
LOCATION:ATP Office\, 203 Colorado Street\, Austin\, Texas\, 78701
CATEGORIES:Committee Meeting
END:VEVENT
BEGIN:VEVENT
DTSTART;TZID=America/Chicago:20260312T170000
DTEND;TZID=America/Chicago:20260312T190000
DTSTAMP:20260423T063529
CREATED:20250519T173436Z
LAST-MODIFIED:20250603T182735Z
UID:10000092-1773334800-1773342000@www.atptx.org
SUMMARY:Community Advisory Committee Meeting
DESCRIPTION:ATP Office\nRegister here to join online.
URL:https://www.atptx.org/event/community-advisory-committee-meeting-6-2025-12/2026-03-12/
LOCATION:ATP Office\, 203 Colorado Street\, Austin\, Texas\, 78701
CATEGORIES:Committee Meeting
END:VEVENT
BEGIN:VEVENT
DTSTART;TZID=America/Chicago:20260212T170000
DTEND;TZID=America/Chicago:20260212T190000
DTSTAMP:20260423T063529
CREATED:20250519T173436Z
LAST-MODIFIED:20250603T182735Z
UID:10000091-1770915600-1770922800@www.atptx.org
SUMMARY:Community Advisory Committee Meeting
DESCRIPTION:ATP Office\nRegister here to join online.
URL:https://www.atptx.org/event/community-advisory-committee-meeting-6-2025-12/2026-02-12/
LOCATION:ATP Office\, 203 Colorado Street\, Austin\, Texas\, 78701
CATEGORIES:Committee Meeting
END:VEVENT
BEGIN:VEVENT
DTSTART;TZID=America/Chicago:20260108T170000
DTEND;TZID=America/Chicago:20260108T190000
DTSTAMP:20260423T063529
CREATED:20250519T173436Z
LAST-MODIFIED:20250603T182735Z
UID:10000090-1767891600-1767898800@www.atptx.org
SUMMARY:Community Advisory Committee Meeting
DESCRIPTION:ATP Office\nRegister here to join online.
URL:https://www.atptx.org/event/community-advisory-committee-meeting-6-2025-12/2026-01-08/
LOCATION:ATP Office\, 203 Colorado Street\, Austin\, Texas\, 78701
CATEGORIES:Committee Meeting
END:VEVENT
BEGIN:VEVENT
DTSTART;TZID=America/Chicago:20251113T170000
DTEND;TZID=America/Chicago:20251113T190000
DTSTAMP:20260423T063529
CREATED:20250519T173436Z
LAST-MODIFIED:20250603T182735Z
UID:10000088-1763053200-1763060400@www.atptx.org
SUMMARY:Community Advisory Committee Meeting
DESCRIPTION:ATP Office\nRegister here to join online.
URL:https://www.atptx.org/event/community-advisory-committee-meeting-6-2025-12/2025-11-13/
LOCATION:ATP Office\, 203 Colorado Street\, Austin\, Texas\, 78701
CATEGORIES:Committee Meeting
END:VEVENT
BEGIN:VEVENT
DTSTART;TZID=America/Chicago:20251009T170000
DTEND;TZID=America/Chicago:20251009T190000
DTSTAMP:20260423T063529
CREATED:20250519T173436Z
LAST-MODIFIED:20250603T182735Z
UID:10000087-1760029200-1760036400@www.atptx.org
SUMMARY:Community Advisory Committee Meeting
DESCRIPTION:ATP Office\nRegister here to join online.
URL:https://www.atptx.org/event/community-advisory-committee-meeting-6-2025-12/2025-10-09/
LOCATION:ATP Office\, 203 Colorado Street\, Austin\, Texas\, 78701
CATEGORIES:Committee Meeting
END:VEVENT
BEGIN:VEVENT
DTSTART;TZID=America/Chicago:20250911T170000
DTEND;TZID=America/Chicago:20250911T190000
DTSTAMP:20260423T063529
CREATED:20250519T173436Z
LAST-MODIFIED:20250603T182735Z
UID:10000086-1757610000-1757617200@www.atptx.org
SUMMARY:Community Advisory Committee Meeting
DESCRIPTION:ATP Office\nRegister here to join online.
URL:https://www.atptx.org/event/community-advisory-committee-meeting-6-2025-12/2025-09-11/
LOCATION:ATP Office\, 203 Colorado Street\, Austin\, Texas\, 78701
CATEGORIES:Committee Meeting
END:VEVENT
BEGIN:VEVENT
DTSTART;TZID=America/Chicago:20250814T170000
DTEND;TZID=America/Chicago:20250814T190000
DTSTAMP:20260423T063529
CREATED:20250519T173436Z
LAST-MODIFIED:20250603T182735Z
UID:10000085-1755190800-1755198000@www.atptx.org
SUMMARY:Community Advisory Committee Meeting
DESCRIPTION:ATP Office\nRegister here to join online.
URL:https://www.atptx.org/event/community-advisory-committee-meeting-6-2025-12/2025-08-14/
LOCATION:ATP Office\, 203 Colorado Street\, Austin\, Texas\, 78701
CATEGORIES:Committee Meeting
END:VEVENT
BEGIN:VEVENT
DTSTART;TZID=America/Chicago:20250710T170000
DTEND;TZID=America/Chicago:20250710T190000
DTSTAMP:20260423T063529
CREATED:20250519T173436Z
LAST-MODIFIED:20250603T182735Z
UID:10000084-1752166800-1752174000@www.atptx.org
SUMMARY:Community Advisory Committee Meeting
DESCRIPTION:ATP Office\nRegister here to join online.
URL:https://www.atptx.org/event/community-advisory-committee-meeting-6-2025-12/2025-07-10/
LOCATION:ATP Office\, 203 Colorado Street\, Austin\, Texas\, 78701
CATEGORIES:Committee Meeting
END:VEVENT
BEGIN:VEVENT
DTSTART;TZID=America/Chicago:20250612T170000
DTEND;TZID=America/Chicago:20250612T190000
DTSTAMP:20260423T063529
CREATED:20250519T173436Z
LAST-MODIFIED:20250603T182735Z
UID:10000083-1749747600-1749754800@www.atptx.org
SUMMARY:Community Advisory Committee Meeting
DESCRIPTION:ATP Office\nRegister here to join online.
URL:https://www.atptx.org/event/community-advisory-committee-meeting-6-2025-12/2025-06-12/
LOCATION:ATP Office\, 203 Colorado Street\, Austin\, Texas\, 78701
CATEGORIES:Committee Meeting
END:VEVENT
BEGIN:VEVENT
DTSTART;TZID=America/Chicago:20250306T170000
DTEND;TZID=America/Chicago:20250306T190000
DTSTAMP:20260423T063529
CREATED:20250303T173238Z
LAST-MODIFIED:20250303T173238Z
UID:10000081-1741280400-1741287600@www.atptx.org
SUMMARY:Community Advisory Committee Meeting
DESCRIPTION:Learn More on the Project Connect website.
URL:https://www.atptx.org/event/community-advisory-committee-meeting-3-2025/
LOCATION:ATP Office\, 203 Colorado Street\, Austin\, Texas\, 78701
CATEGORIES:Committee Meeting
END:VEVENT
BEGIN:VEVENT
DTSTART;TZID=America/Chicago:20250213T170000
DTEND;TZID=America/Chicago:20250213T190000
DTSTAMP:20260423T063529
CREATED:20250207T190508Z
LAST-MODIFIED:20250207T190508Z
UID:10000079-1739466000-1739473200@www.atptx.org
SUMMARY:Community Advisory Committee Meeting
DESCRIPTION:Learn More on the Project Connect website.
URL:https://www.atptx.org/event/community-advisory-committee-meeting-2-2025/
LOCATION:ATP Office\, 203 Colorado Street\, Austin\, Texas\, 78701
CATEGORIES:Committee Meeting
END:VEVENT
BEGIN:VEVENT
DTSTART;TZID=America/Chicago:20250109T170000
DTEND;TZID=America/Chicago:20250109T190000
DTSTAMP:20260423T063529
CREATED:20250709T160821Z
LAST-MODIFIED:20250709T160821Z
UID:10000144-1736442000-1736449200@www.atptx.org
SUMMARY:Community Advisory Committee Meeting
DESCRIPTION:Learn More on the Project Connect website.
URL:https://www.atptx.org/event/community-advisory-committee-meeting-3-2025-2/
LOCATION:ATP Office\, 203 Colorado Street\, Austin\, Texas\, 78701
CATEGORIES:Committee Meeting
END:VEVENT
BEGIN:VEVENT
DTSTART;TZID=America/Chicago:20241212T170000
DTEND;TZID=America/Chicago:20241212T190000
DTSTAMP:20260423T063529
CREATED:20240216T201857Z
LAST-MODIFIED:20240216T201857Z
UID:10000067-1734022800-1734030000@www.atptx.org
SUMMARY:Community Advisory Committee Meeting
DESCRIPTION:Learn More on the Project Connect website.
URL:https://www.atptx.org/event/community-advisory-committee-meeting-12-24/
LOCATION:ATP Office\, 203 Colorado Street\, Austin\, Texas\, 78701
CATEGORIES:Committee Meeting
END:VEVENT
BEGIN:VEVENT
DTSTART;TZID=America/Chicago:20241114T170000
DTEND;TZID=America/Chicago:20241114T190000
DTSTAMP:20260423T063529
CREATED:20240216T201702Z
LAST-MODIFIED:20240216T201702Z
UID:10000066-1731603600-1731610800@www.atptx.org
SUMMARY:Community Advisory Committee Meeting
DESCRIPTION:Learn More on the Project Connect website.
URL:https://www.atptx.org/event/community-advisory-committee-meeting-11-24/
LOCATION:ATP Office\, 203 Colorado Street\, Austin\, Texas\, 78701
CATEGORIES:Committee Meeting
END:VEVENT
BEGIN:VEVENT
DTSTART;TZID=America/Chicago:20241010T170000
DTEND;TZID=America/Chicago:20241010T190000
DTSTAMP:20260423T063529
CREATED:20240216T201535Z
LAST-MODIFIED:20240216T201535Z
UID:10000065-1728579600-1728586800@www.atptx.org
SUMMARY:Community Advisory Committee Meeting
DESCRIPTION:Learn More on the Project Connect website.
URL:https://www.atptx.org/event/community-advisory-committee-meeting-10-24/
LOCATION:ATP Office\, 203 Colorado Street\, Austin\, Texas\, 78701
CATEGORIES:Committee Meeting
END:VEVENT
BEGIN:VEVENT
DTSTART;TZID=America/Chicago:20240912T170000
DTEND;TZID=America/Chicago:20240912T190000
DTSTAMP:20260423T063529
CREATED:20240216T201400Z
LAST-MODIFIED:20240216T201400Z
UID:10000064-1726160400-1726167600@www.atptx.org
SUMMARY:Community Advisory Committee Meeting
DESCRIPTION:Learn More on the Project Connect website.
URL:https://www.atptx.org/event/community-advisory-committee-meeting-9-24/
LOCATION:ATP Office\, 203 Colorado Street\, Austin\, Texas\, 78701
CATEGORIES:Committee Meeting
END:VEVENT
BEGIN:VEVENT
DTSTART;TZID=America/Chicago:20240808T170000
DTEND;TZID=America/Chicago:20240808T190000
DTSTAMP:20260423T063529
CREATED:20240216T201242Z
LAST-MODIFIED:20240216T201242Z
UID:10000063-1723136400-1723143600@www.atptx.org
SUMMARY:Community Advisory Committee Meeting
DESCRIPTION:Learn More on the Project Connect website.
URL:https://www.atptx.org/event/community-advisory-committee-meeting-8-24/
LOCATION:ATP Office\, 203 Colorado Street\, Austin\, Texas\, 78701
CATEGORIES:Committee Meeting
END:VEVENT
BEGIN:VEVENT
DTSTART;TZID=America/Chicago:20240711T170000
DTEND;TZID=America/Chicago:20240711T190000
DTSTAMP:20260423T063529
CREATED:20240216T201021Z
LAST-MODIFIED:20240216T201150Z
UID:10000062-1720717200-1720724400@www.atptx.org
SUMMARY:Community Advisory Committee Meeting
DESCRIPTION:Learn More on the Project Connect website.
URL:https://www.atptx.org/event/community-advisory-committee-meeting-7-24/
LOCATION:ATP Office\, 203 Colorado Street\, Austin\, Texas\, 78701
CATEGORIES:Committee Meeting
END:VEVENT
BEGIN:VEVENT
DTSTART;TZID=America/Chicago:20240613T170000
DTEND;TZID=America/Chicago:20240613T190000
DTSTAMP:20260423T063529
CREATED:20240216T173722Z
LAST-MODIFIED:20240216T173722Z
UID:10000061-1718298000-1718305200@www.atptx.org
SUMMARY:Community Advisory Committee Meeting
DESCRIPTION:Learn More on the Project Connect website.
URL:https://www.atptx.org/event/community-advisory-committee-meeting-6-24/
LOCATION:ATP Office\, 203 Colorado Street\, Austin\, Texas\, 78701
CATEGORIES:Committee Meeting
END:VEVENT
BEGIN:VEVENT
DTSTART;TZID=America/Chicago:20240509T170000
DTEND;TZID=America/Chicago:20240509T190000
DTSTAMP:20260423T063529
CREATED:20240216T173510Z
LAST-MODIFIED:20240216T173510Z
UID:10000060-1715274000-1715281200@www.atptx.org
SUMMARY:Community Advisory Committee Meeting
DESCRIPTION:Learn More on the Project Connect website.
URL:https://www.atptx.org/event/community-advisory-committee-meeting-5-24/
LOCATION:ATP Office\, 203 Colorado Street\, Austin\, Texas\, 78701
CATEGORIES:Committee Meeting
END:VEVENT
BEGIN:VEVENT
DTSTART;TZID=America/Chicago:20240411T170000
DTEND;TZID=America/Chicago:20240411T190000
DTSTAMP:20260423T063529
CREATED:20240216T173326Z
LAST-MODIFIED:20240216T173326Z
UID:10000059-1712854800-1712862000@www.atptx.org
SUMMARY:Community Advisory Committee Meeting
DESCRIPTION:Learn More on the Project Connect website.
URL:https://www.atptx.org/event/community-advisory-committee-meeting-4-24/
LOCATION:ATP Office\, 203 Colorado Street\, Austin\, Texas\, 78701
CATEGORIES:Committee Meeting
END:VEVENT
BEGIN:VEVENT
DTSTART;TZID=America/Chicago:20240307T170000
DTEND;TZID=America/Chicago:20240307T190000
DTSTAMP:20260423T063529
CREATED:20240118T155107Z
LAST-MODIFIED:20240118T155107Z
UID:10000055-1709830800-1709838000@www.atptx.org
SUMMARY:Community Advisory Committee Meeting
DESCRIPTION:Learn More on the Project Connect website.
URL:https://www.atptx.org/event/community-advisory-committee-meeting-3-24/
LOCATION:ATP Office\, 203 Colorado Street\, Austin\, Texas\, 78701
CATEGORIES:Committee Meeting
END:VEVENT
BEGIN:VEVENT
DTSTART;TZID=America/Chicago:20240208T170000
DTEND;TZID=America/Chicago:20240208T190000
DTSTAMP:20260423T063529
CREATED:20240118T155225Z
LAST-MODIFIED:20240118T155225Z
UID:10000054-1707411600-1707418800@www.atptx.org
SUMMARY:Community Advisory Committee Meeting
DESCRIPTION:Learn More on the Project Connect website.
URL:https://www.atptx.org/event/community-advisory-committee-meeting-2-24/
LOCATION:ATP Office\, 203 Colorado Street\, Austin\, Texas\, 78701
CATEGORIES:Committee Meeting
END:VEVENT
BEGIN:VEVENT
DTSTART;TZID=America/Chicago:20240111T170000
DTEND;TZID=America/Chicago:20240111T190000
DTSTAMP:20260423T063529
CREATED:20240108T165101Z
LAST-MODIFIED:20240109T053031Z
UID:10000034-1704992400-1704999600@www.atptx.org
SUMMARY:Community Advisory Committee Meeting
DESCRIPTION:Learn More on the Project Connect website.
URL:https://www.atptx.org/event/community-advisory-committee-meeting-2-2/
LOCATION:ATP Office\, 203 Colorado Street\, Austin\, Texas\, 78701
CATEGORIES:Committee Meeting
END:VEVENT
BEGIN:VEVENT
DTSTART;TZID=America/Chicago:20231214T170000
DTEND;TZID=America/Chicago:20231214T190000
DTSTAMP:20260423T063529
CREATED:20231109T155007Z
LAST-MODIFIED:20231109T155033Z
UID:10000030-1702573200-1702580400@www.atptx.org
SUMMARY:Community Advisory Committee Meeting
DESCRIPTION:Learn More on the Project Connect website.
URL:https://www.atptx.org/event/community-advisory-committee-meeting-2/
LOCATION:ATP Office\, 203 Colorado Street\, Austin\, Texas\, 78701
CATEGORIES:Committee Meeting
END:VEVENT
BEGIN:VEVENT
DTSTART;TZID=America/Chicago:20231109T170000
DTEND;TZID=America/Chicago:20231109T190000
DTSTAMP:20260423T063529
CREATED:20231108T175840Z
LAST-MODIFIED:20231109T145049Z
UID:10000020-1699549200-1699556400@www.atptx.org
SUMMARY:Community Advisory Committee Meeting
DESCRIPTION:Learn More about the Community Advisory Committee.
URL:https://www.atptx.org/event/community-advisory-committee-meeting/
LOCATION:ATP Office\, 203 Colorado Street\, Austin\, Texas\, 78701
CATEGORIES:Committee Meeting
END:VEVENT
BEGIN:VEVENT
DTSTART;TZID=America/New_York:20230914T000000
DTEND;TZID=America/New_York:20230914T235959
DTSTAMP:20260423T063529
CREATED:20230907T160346Z
LAST-MODIFIED:20230912T153316Z
UID:10000008-1694649600-1694735999@www.atptx.org
SUMMARY:Community Advisory Committee (CAC)
DESCRIPTION:Register to attend the meeting on Zoom. \nView the Agenda
URL:https://www.atptx.org/event/community-advisory-committee-cac/
LOCATION:ATP Office\, 203 Colorado Street\, Austin\, Texas\, 78701
CATEGORIES:Committee Meeting
END:VEVENT
END:VCALENDAR