BEGIN:VCALENDAR
VERSION:2.0
PRODID:-//Austin Transit Partnership - ECPv6.15.16//NONSGML v1.0//EN
CALSCALE:GREGORIAN
METHOD:PUBLISH
X-WR-CALNAME:Austin Transit Partnership
X-ORIGINAL-URL:https://www.atptx.org
X-WR-CALDESC:Events for Austin Transit Partnership
REFRESH-INTERVAL;VALUE=DURATION:PT1H
X-Robots-Tag:noindex
X-PUBLISHED-TTL:PT1H
BEGIN:VTIMEZONE
TZID:America/Chicago
BEGIN:DAYLIGHT
TZOFFSETFROM:-0600
TZOFFSETTO:-0500
TZNAME:CDT
DTSTART:20220313T080000
END:DAYLIGHT
BEGIN:STANDARD
TZOFFSETFROM:-0500
TZOFFSETTO:-0600
TZNAME:CST
DTSTART:20221106T070000
END:STANDARD
BEGIN:DAYLIGHT
TZOFFSETFROM:-0600
TZOFFSETTO:-0500
TZNAME:CDT
DTSTART:20230312T080000
END:DAYLIGHT
BEGIN:STANDARD
TZOFFSETFROM:-0500
TZOFFSETTO:-0600
TZNAME:CST
DTSTART:20231105T070000
END:STANDARD
BEGIN:DAYLIGHT
TZOFFSETFROM:-0600
TZOFFSETTO:-0500
TZNAME:CDT
DTSTART:20240310T080000
END:DAYLIGHT
BEGIN:STANDARD
TZOFFSETFROM:-0500
TZOFFSETTO:-0600
TZNAME:CST
DTSTART:20241103T070000
END:STANDARD
BEGIN:DAYLIGHT
TZOFFSETFROM:-0600
TZOFFSETTO:-0500
TZNAME:CDT
DTSTART:20250309T080000
END:DAYLIGHT
BEGIN:STANDARD
TZOFFSETFROM:-0500
TZOFFSETTO:-0600
TZNAME:CST
DTSTART:20251102T070000
END:STANDARD
BEGIN:DAYLIGHT
TZOFFSETFROM:-0600
TZOFFSETTO:-0500
TZNAME:CDT
DTSTART:20260308T080000
END:DAYLIGHT
BEGIN:STANDARD
TZOFFSETFROM:-0500
TZOFFSETTO:-0600
TZNAME:CST
DTSTART:20261101T070000
END:STANDARD
BEGIN:DAYLIGHT
TZOFFSETFROM:-0600
TZOFFSETTO:-0500
TZNAME:CDT
DTSTART:20270314T080000
END:DAYLIGHT
BEGIN:STANDARD
TZOFFSETFROM:-0500
TZOFFSETTO:-0600
TZNAME:CST
DTSTART:20271107T070000
END:STANDARD
END:VTIMEZONE
BEGIN:VTIMEZONE
TZID:America/New_York
BEGIN:DAYLIGHT
TZOFFSETFROM:-0500
TZOFFSETTO:-0400
TZNAME:EDT
DTSTART:20220313T070000
END:DAYLIGHT
BEGIN:STANDARD
TZOFFSETFROM:-0400
TZOFFSETTO:-0500
TZNAME:EST
DTSTART:20221106T060000
END:STANDARD
BEGIN:DAYLIGHT
TZOFFSETFROM:-0500
TZOFFSETTO:-0400
TZNAME:EDT
DTSTART:20230312T070000
END:DAYLIGHT
BEGIN:STANDARD
TZOFFSETFROM:-0400
TZOFFSETTO:-0500
TZNAME:EST
DTSTART:20231105T060000
END:STANDARD
BEGIN:DAYLIGHT
TZOFFSETFROM:-0500
TZOFFSETTO:-0400
TZNAME:EDT
DTSTART:20240310T070000
END:DAYLIGHT
BEGIN:STANDARD
TZOFFSETFROM:-0400
TZOFFSETTO:-0500
TZNAME:EST
DTSTART:20241103T060000
END:STANDARD
END:VTIMEZONE
BEGIN:VEVENT
DTSTART;TZID=America/Chicago:20260218T140000
DTEND;TZID=America/Chicago:20260218T140000
DTSTAMP:20260424T055010
CREATED:20260205T234444Z
LAST-MODIFIED:20260205T234444Z
UID:10000149-1771423200-1771423200@www.atptx.org
SUMMARY:ATP Board of Directors Meeting
DESCRIPTION:ATP Board Room\nAgenda and supplemental documents to be posted closer to meeting date.\nWatch the Meeting Online
URL:https://www.atptx.org/event/atp-board-of-directors-meeting-feb-26/
LOCATION:ATP Office\, 203 Colorado Street\, Austin\, Texas\, 78701
CATEGORIES:Board Meeting
END:VEVENT
BEGIN:VEVENT
DTSTART;TZID=America/Chicago:20260121T140000
DTEND;TZID=America/Chicago:20260121T140000
DTSTAMP:20260424T055010
CREATED:20260107T225522Z
LAST-MODIFIED:20260107T225522Z
UID:10000148-1769004000-1769004000@www.atptx.org
SUMMARY:ATP Board of Directors Meeting
DESCRIPTION:ATP Board Room\nAgenda and supplemental documents to be posted closer to meeting date.\nWatch the Meeting Online
URL:https://www.atptx.org/event/atp-board-of-directors-meeting-jan-26/
LOCATION:ATP Office\, 203 Colorado Street\, Austin\, Texas\, 78701
CATEGORIES:Board Meeting
END:VEVENT
BEGIN:VEVENT
DTSTART;TZID=America/Chicago:20251119T140000
DTEND;TZID=America/Chicago:20251119T140000
DTSTAMP:20260424T055010
CREATED:20251021T193344Z
LAST-MODIFIED:20251021T194014Z
UID:10000147-1763560800-1763560800@www.atptx.org
SUMMARY:ATP Board of Directors Meeting
DESCRIPTION:ATP Board Room\nAgenda and supplemental documents to be posted closer to meeting date.\nWatch the Meeting Online
URL:https://www.atptx.org/event/atp-board-of-directors-meeting-11-19-25/
LOCATION:ATP Office\, 203 Colorado Street\, Austin\, Texas\, 78701
CATEGORIES:Board Meeting
END:VEVENT
BEGIN:VEVENT
DTSTART;TZID=America/Chicago:20250917T140000
DTEND;TZID=America/Chicago:20250917T160000
DTSTAMP:20260424T055010
CREATED:20250812T184938Z
LAST-MODIFIED:20250812T184938Z
UID:10000146-1758117600-1758124800@www.atptx.org
SUMMARY:ATP Board of Directors Meeting
DESCRIPTION:ATP Board Room\nAgenda and supplemental documents to be posted closer to meeting date.\nWatch the Meeting Online
URL:https://www.atptx.org/event/atp-board-of-directors-meeting-7-30-2/
LOCATION:ATP Office\, 203 Colorado Street\, Austin\, Texas\, 78701
CATEGORIES:Board Meeting
END:VEVENT
BEGIN:VEVENT
DTSTART;TZID=America/Chicago:20250730T133000
DTEND;TZID=America/Chicago:20250730T153000
DTSTAMP:20260424T055010
CREATED:20250701T205225Z
LAST-MODIFIED:20250723T171535Z
UID:10000143-1753882200-1753889400@www.atptx.org
SUMMARY:ATP Board of Directors Meeting
DESCRIPTION:ATP Board Room\nAgenda and supplemental documents to be posted closer to meeting date.\nWatch the Meeting Online
URL:https://www.atptx.org/event/atp-board-of-directors-meeting-7-30/
LOCATION:ATP Office\, 203 Colorado Street\, Austin\, Texas\, 78701
CATEGORIES:Board Meeting
END:VEVENT
BEGIN:VEVENT
DTSTART;TZID=America/Chicago:20250521T130000
DTEND;TZID=America/Chicago:20250521T150000
DTSTAMP:20260424T055010
CREATED:20250415T202008Z
LAST-MODIFIED:20250516T132857Z
UID:10000082-1747832400-1747839600@www.atptx.org
SUMMARY:ATP Board of Directors Meeting
DESCRIPTION:ATP Board Room\nView Agenda & Supplemental Documents\nWatch the Meeting Online
URL:https://www.atptx.org/event/atp-board-of-directors-meeting-3/
LOCATION:Texas
CATEGORIES:Board Meeting
END:VEVENT
BEGIN:VEVENT
DTSTART;TZID=America/Chicago:20250312T150000
DTEND;TZID=America/Chicago:20250312T170000
DTSTAMP:20260424T055010
CREATED:20250210T174404Z
LAST-MODIFIED:20250305T211726Z
UID:10000080-1741791600-1741798800@www.atptx.org
SUMMARY:ATP Board of Directors Meeting
DESCRIPTION:ATP Board Room\nView Agenda & Supplemental Documents\nWatch the Meeting Online
URL:https://www.atptx.org/event/atp-board-of-directors-meeting-3-25/
LOCATION:ATP Office\, 203 Colorado Street\, Austin\, Texas\, 78701
CATEGORIES:Board Meeting
END:VEVENT
BEGIN:VEVENT
DTSTART;TZID=America/Chicago:20250129T150000
DTEND;TZID=America/Chicago:20250129T170000
DTSTAMP:20260424T055010
CREATED:20250116T181305Z
LAST-MODIFIED:20250305T233836Z
UID:10000078-1738162800-1738170000@www.atptx.org
SUMMARY:ATP Board of Directors Meeting
DESCRIPTION:ATP Board Room\nView Agenda & Supplemental Documents\nWatch the Meeting Online
URL:https://www.atptx.org/event/atp-board-of-directors-meeting-1-25/
LOCATION:ATP Office\, 203 Colorado Street\, Austin\, Texas\, 78701
CATEGORIES:Board Meeting
END:VEVENT
BEGIN:VEVENT
DTSTART;TZID=America/Chicago:20241218T140000
DTEND;TZID=America/Chicago:20241218T160000
DTSTAMP:20260424T055010
CREATED:20250107T202152Z
LAST-MODIFIED:20250305T234002Z
UID:10000077-1734530400-1734537600@www.atptx.org
SUMMARY:ATP Board of Directors Meeting
DESCRIPTION:ATP Board Room\nView Agenda & Supplemental Documents\nWatch the Meeting Online
URL:https://www.atptx.org/event/atp-board-of-directors-meeting-12-24-2/
LOCATION:ATP Office\, 203 Colorado Street\, Austin\, Texas\, 78701
CATEGORIES:Board Meeting
END:VEVENT
BEGIN:VEVENT
DTSTART;TZID=America/Chicago:20241204T140000
DTEND;TZID=America/Chicago:20241204T140000
DTSTAMP:20260424T055010
CREATED:20240111T233950Z
LAST-MODIFIED:20240111T233950Z
UID:10000048-1733320800-1733320800@www.atptx.org
SUMMARY:ATP Board of Directors Meeting
DESCRIPTION:ATP Board Room\nView Agenda & Supplemental Documents\nWatch the Meeting Online
URL:https://www.atptx.org/event/atp-board-of-directors-meeting-12-24/
LOCATION:ATP Office\, 203 Colorado Street\, Austin\, Texas\, 78701
CATEGORIES:Board Meeting
END:VEVENT
BEGIN:VEVENT
DTSTART;TZID=America/Chicago:20240918T140000
DTEND;TZID=America/Chicago:20240918T140000
DTSTAMP:20260424T055010
CREATED:20240111T233247Z
LAST-MODIFIED:20240111T233247Z
UID:10000045-1726668000-1726668000@www.atptx.org
SUMMARY:ATP Board of Directors Meeting
DESCRIPTION:ATP Board Room\nView Agenda & Supplemental Documents\nWatch the Meeting Online
URL:https://www.atptx.org/event/atp-board-of-directors-meeting-9-24/
LOCATION:ATP Office\, 203 Colorado Street\, Austin\, Texas\, 78701
CATEGORIES:Board Meeting
END:VEVENT
BEGIN:VEVENT
DTSTART;TZID=America/Chicago:20240807T130000
DTEND;TZID=America/Chicago:20240807T130000
DTSTAMP:20260424T055010
CREATED:20240722T154912Z
LAST-MODIFIED:20240722T154912Z
UID:10000071-1723035600-1723035600@www.atptx.org
SUMMARY:ATP Board of Directors Work Session
DESCRIPTION:ATP Board Room\nView Agenda & Supplemental Documents\nWatch the Meeting Online
URL:https://www.atptx.org/event/atp-board-of-directors-meeting-8-24-2/
LOCATION:ATP Office\, 203 Colorado Street\, Austin\, Texas\, 78701
CATEGORIES:Board Meeting
END:VEVENT
BEGIN:VEVENT
DTSTART;TZID=America/Chicago:20240717T130000
DTEND;TZID=America/Chicago:20240717T130000
DTSTAMP:20260424T055010
CREATED:20240111T230638Z
LAST-MODIFIED:20240626T224248Z
UID:10000043-1721221200-1721221200@www.atptx.org
SUMMARY:ATP Board of Directors Meeting
DESCRIPTION:ATP Board Room\nView Agenda & Supplemental Documents\nWatch the Meeting Online
URL:https://www.atptx.org/event/atp-board-of-directors-meeting-7-24/
LOCATION:ATP Office\, 203 Colorado Street\, Austin\, Texas\, 78701
CATEGORIES:Board Meeting
END:VEVENT
BEGIN:VEVENT
DTSTART;TZID=America/Chicago:20240515T140000
DTEND;TZID=America/Chicago:20240515T160000
DTSTAMP:20260424T055010
CREATED:20240111T225657Z
LAST-MODIFIED:20240508T210339Z
UID:10000041-1715781600-1715788800@www.atptx.org
SUMMARY:ATP Board of Directors Meeting
DESCRIPTION:ATP Board Room\nView Agenda & Supplemental Documents\nWatch the Meeting Online
URL:https://www.atptx.org/event/atp-board-of-directors-meeting-5-24/
LOCATION:ATP Office\, 203 Colorado Street\, Austin\, Texas\, 78701
CATEGORIES:Board Meeting
END:VEVENT
BEGIN:VEVENT
DTSTART;TZID=America/Chicago:20240327T130000
DTEND;TZID=America/Chicago:20240327T150000
DTSTAMP:20260424T055010
CREATED:20240111T224528Z
LAST-MODIFIED:20240322T210627Z
UID:10000039-1711544400-1711551600@www.atptx.org
SUMMARY:ATP Board of Directors Meeting
DESCRIPTION:ATP Board Room & Lobby\nView Agenda & Supplemental Documents\nWatch the Meeting Online
URL:https://www.atptx.org/event/atp-board-of-directors-meeting-3-24/
LOCATION:ATP Office\, 203 Colorado Street\, Austin\, Texas\, 78701
CATEGORIES:Board Meeting
END:VEVENT
BEGIN:VEVENT
DTSTART;TZID=America/Chicago:20240216T110000
DTEND;TZID=America/Chicago:20240216T110000
DTSTAMP:20260424T055010
CREATED:20240111T224016Z
LAST-MODIFIED:20240111T232940Z
UID:10000038-1708081200-1708081200@www.atptx.org
SUMMARY:ATP Board of Directors Meeting
DESCRIPTION:ATP Board Room\nView Agenda & Supplemental Documents\nWatch the Meeting Online
URL:https://www.atptx.org/event/atp-board-of-directors-meeting-2-24/
LOCATION:ATP Office\, 203 Colorado Street\, Austin\, Texas\, 78701
CATEGORIES:Board Meeting
END:VEVENT
BEGIN:VEVENT
DTSTART;TZID=America/Chicago:20240124T140000
DTEND;TZID=America/Chicago:20240124T140000
DTSTAMP:20260424T055010
CREATED:20240108T164835Z
LAST-MODIFIED:20240111T231809Z
UID:10000033-1706104800-1706104800@www.atptx.org
SUMMARY:ATP Board of Directors Meeting
DESCRIPTION:ATP Board Room\nView Agenda & Supplemental Documents\nWatch the Meeting Online
URL:https://www.atptx.org/event/atp-board-of-directors-meeting-1-24/
LOCATION:ATP Office\, 203 Colorado Street\, Austin\, Texas\, 78701
CATEGORIES:Board Meeting
END:VEVENT
BEGIN:VEVENT
DTSTART;TZID=America/Chicago:20231213T140000
DTEND;TZID=America/Chicago:20231213T140000
DTSTAMP:20260424T055010
CREATED:20231128T182150Z
LAST-MODIFIED:20231128T182150Z
UID:10000032-1702476000-1702476000@www.atptx.org
SUMMARY:ATP Board of Directors Meeting
DESCRIPTION:ATP Board Room\nView Agenda & Supplemental Documents\nWatch the Meeting Online
URL:https://www.atptx.org/event/atp-board-of-directors-meeting-2/
LOCATION:ATP Office\, 203 Colorado Street\, Austin\, Texas\, 78701
CATEGORIES:Board Meeting
END:VEVENT
BEGIN:VEVENT
DTSTART;TZID=America/Chicago:20231018T140000
DTEND;TZID=America/Chicago:20231018T140000
DTSTAMP:20260424T055010
CREATED:20231013T191615Z
LAST-MODIFIED:20231013T194254Z
UID:10000013-1697637600-1697637600@www.atptx.org
SUMMARY:ATP Board of Directors Meeting
DESCRIPTION:ATP Board Room\nView Agenda & Supplemental Documents\nWatch the Meeting Online
URL:https://www.atptx.org/event/atp-board-of-directors-meeting-1018/
LOCATION:ATP Office\, 203 Colorado Street\, Austin\, Texas\, 78701
CATEGORIES:Board Meeting
END:VEVENT
BEGIN:VEVENT
DTSTART;TZID=America/New_York:20230920T140000
DTEND;TZID=America/New_York:20230920T140000
DTSTAMP:20260424T055010
CREATED:20230906T193606Z
LAST-MODIFIED:20230919T210948Z
UID:10000006-1695218400-1695218400@www.atptx.org
SUMMARY:ATP Board of Directors Meeting
DESCRIPTION:ATP Board Room\nWatch the Meeting Online \nView Agenda & Supplemental Documents
URL:https://www.atptx.org/event/atp-board-of-directors-meeting/
LOCATION:Texas
CATEGORIES:Board Meeting
END:VEVENT
END:VCALENDAR